{"text_format":"1","workbook":"xlsx","n_sheets":2,"sheets":["Simulador","Auxiliar"],"not_rendered":{"charts":0,"images":3,"macros":0,"external_links":0,"defined_names":0,"comments":0,"pivot_tables":0},"unopened":[],"bounds":{"document_bytes":16777216,"sheet_cells":100000,"rows_first":2000,"rows_last":500,"rows_between":2000,"halvings":0,"cell_chars":16384,"cell_head_chars":4096},"cells_cut":0,"cells_raw":0,"read":"whole","date_system":"1900"}

{"sheet":"Simulador","index":0,"n_rows":48,"n_cols":14,"rows_kept":48,"cut":false,"hidden":false,"merged":[[37,13,37,14],[37,6,37,11],[20,8,20,9],[32,13,32,14],[26,13,26,14],[28,8,28,9],[26,8,26,9],[22,13,22,14],[24,8,24,9],[20,13,20,14],[26,3,26,4],[28,3,28,4],[0,13,0,14],[10,13,10,14],[8,13,8,14],[22,8,22,9],[24,3,24,4],[22,3,22,4],[24,13,24,14],[12,8,12,9],[28,13,28,14],[12,3,12,4],[20,3,20,4],[16,1,16,4],[18,13,18,14],[12,13,12,14],[34,3,34,4],[34,13,34,14],[30,8,30,9],[32,8,32,9],[34,8,34,9],[32,3,32,4],[30,3,30,4],[30,13,30,14],[6,1,6,14],[4,1,4,14],[18,3,18,4],[14,1,14,14],[16,11,16,14],[16,6,16,9],[18,8,18,9],[8,3,8,9],[10,3,10,4],[10,8,10,9]]}
[null,null,null,null,null,null,null,null,null,null,null,"Data :",null,{"$f":"TODAY()","v":"2025-10-28"}]
[]
[]
[]
[null,"SIMULADOR DE TRATAMENTO TRIBUTÁRIO"]
[]
[null,"DADOS CADASTRAIS"]
[]
[null,"NOME :",null,null,null,null,null,null,null,null,null,"SALÁRIO BRUTO :"]
[]
[null,"Nº DEPENDENTES :",null,{"$f":"Auxiliar!B5","v":2},null,null,null,null,null,null,null,"RENDIMENTOS EXTRAS ** :"]
[]
[null,"DATA DE NASCIMENTO :",null,null,null,null,"CPF :",null,null,null,null,"CONTRIBUIÇÃO  ANUAL  EM  PREVIDÊNCIA * :"]
[]
[null,"TRATAMENTO TRIBUTÁRIO"]
[]
[null,"SEM PLANO DE PREVIDÊNCIA",null,null,null,null,"COM PLANO DE PREVIDÊNCIA",null,null,null,null,"COM PLANO DE PREVIDÊNCIA E APORTE"]
[]
[null,"Salário Bruto Anual Tributável",null,{"$f":"IF(ISERROR(IF(N9=\"\",0,Auxiliar!$B$2*N9+N11)),0,IF(N9=\"\",0,Auxiliar!$B$2*N9+N11))","v":0},null,null,"Salário Bruto Anual Tributável",null,{"$f":"D19","v":0},null,null,"Salário Bruto Anual Tributável",null,{"$f":"I19","v":0}]
[]
[null,"Valor do INSS",null,{"$f":"IF(ISERROR(Auxiliar!B13),0,Auxiliar!B13)","v":0},null,null,"Valor do INSS",null,{"$f":"D21","v":0},null,null,"Valor do INSS",null,{"$f":"I21","v":0}]
[]
[null,"N.º de Dependentes",null,{"$f":"Auxiliar!B5","v":2},null,null,"N.º de Dependentes",null,{"$f":"D23","v":2},null,null,"N.º de Dependentes",null,{"$f":"I23","v":2}]
[]
[null,"Dedução dos Dependentes",null,{"$f":"Auxiliar!G10*D23","v":4550.16},null,null,"Dedução dos Dependentes",null,{"$f":"D25","v":4550.16},null,null,"Dedução dos Dependentes",null,{"$f":"I25","v":4550.16}]
[]
[null,"Plano de Previdência",null,0,null,null,"Plano de Previdência",null,{"$f":"IF(OR(I19=\"\",I19=0),0,MIN(12%*I19,Auxiliar!B17))","v":0},null,null,"Plano de Previdência + Aporte",null,{"$f":"IF(OR(I19=\"\",I19=0),0,MIN(12%*I19,Auxiliar!B17))+Auxiliar!B19","v":0}]
[]
[null,"Base para Cálculo IR",null,{"$f":"D19-D21-D25","v":-4550.16},null,null,"Base para Cálculo IR",null,{"$f":"I19-I21-I25-I27","v":-4550.16},null,null,"Base para Cálculo IR",null,{"$f":"N19-N21-N25-N27","v":-4550.16}]
[]
[null,"Alíquota de IR",null,{"$f":"IF(ISERROR(Auxiliar!G23),\"\",Auxiliar!G23)","v":0},null,null,"Alíquota de IR",null,{"$f":"IF(ISERROR(Auxiliar!G24),\"\",Auxiliar!G24)","v":0},null,null,"Alíquota de IR",null,{"$f":"IF(ISERROR(Auxiliar!G25),\"\",Auxiliar!G25)","v":0}]
[]
[null,"Parcela a Deduzir",null,{"$f":"IF(ISERROR(Auxiliar!H23),0,Auxiliar!H23)","v":0},null,null,"Parcela a Deduzir",null,{"$f":"IF(ISERROR(Auxiliar!H24),0,Auxiliar!H24)","v":0},null,null,"Parcela a Deduzir",null,{"$f":"IF(ISERROR(Auxiliar!H25),0,Auxiliar!H25)","v":0}]
[]
[null,"Imposto Devido",null,{"$f":"IF(ISERROR(Auxiliar!I23),0,Auxiliar!I23)","v":0},null,null,"Imposto Devido",null,{"$f":"IF(ISERROR(Auxiliar!I24),0,Auxiliar!I24)","v":0},null,null,"Imposto Devido",null,{"$f":"IF(ISERROR(Auxiliar!I25),0,Auxiliar!I25)","v":0}]
[]
[]
[null,null,null,null,null,null,"VALOR A SER APORTADO PARA DEDUÇÃO MÁXIMA DE 12% :",null,null,null,null,null,null,{"$f":"IF(ISERROR(Auxiliar!B19),0,Auxiliar!B19)","v":0}]
[]
[]
[null,"Nota : "]
[null,{"$f":"\"1) Observe que com este investimento em Previdência Complementar ( Aporte ), você reduz o imposto de renda a pagar no ano-calendário 2025.\"","v":"1) Observe que com este investimento em Previdência Complementar ( Aporte ), você reduz o imposto de renda a pagar no ano-calendário 2025."}]
[null,{"$f":"\"2) Haverá incidência de Imposto de Renda quando os valores forem resgatados ou transformados em renda mensal, de acordo com o Regime Tributário escolhido.\"","v":"2) Haverá incidência de Imposto de Renda quando os valores forem resgatados ou transformados em renda mensal, de acordo com o Regime Tributário escolhido."}]
[null,"3) O 13° Salário e o PPR por terem tributação exclusiva na fonte, não compõem a renda bruta anual tributável para fins do cálculo do limite de 12%."]
[null,"4) Simulador atualizado com a Tabela de IRF vigente, publicada em janeiro/2025 e INSS de 2025."]
[]
[null,"( * ) : Toda contribuição feita em Previdência Complementar em Planos Fechados e na modalidade PGBL (Individual, Empresarial ou Voluntária)."]
[null,"( ** ) : Qualquer outra renda tributável auferida no período."]

{"sheet":"Auxiliar","index":1,"n_rows":38,"n_cols":12,"rows_kept":38,"cut":false,"hidden":true,"merged":[[14,8,17,8],[24,3,24,4],[23,3,23,4],[21,3,21,4],[0,3,0,5],[12,3,12,7],[9,3,9,4],[22,3,22,4]]}
["13 SALÁRIO",2,null,"TABELA DO INSS (a partir de 01/01/2025)"]
["SIM",{"$f":"IF(B1=1,13,12)","v":12},null,1518,{"$f":"$B$2*D2","v":18216},7.4999999999999997E-2,null,{"$f":"IF($B$9>=D2,D2,B9)","v":0},{"$f":"H2*F2","v":0},{"$f":"IF(H2>0,\"s\",\"n\")","v":"n"},null,"https://www.gov.br/receitafederal/pt-br/assuntos/meu-imposto-de-renda/tabelas/2025"]
["NÃO",null,null,2793.88,{"$f":"$B$2*D3","v":33526.559999999998},0.09,null,{"$f":"IF($B$9>D3,D3-D2,$B$9-D2)","v":-1518},{"$f":"H3*F3","v":-136.62},{"$f":"IF(H3>0,\"s\",\"n\")","v":"n"}]
[null,null,null,4190.83,{"$f":"$B$2*D4","v":50289.96},0.12,null,{"$f":"IF($B$9>D4,D4-D3,$B$9-D3)","v":-2793.88},{"$f":"H4*F4","v":-335.26560000000001},"n"]
["DEPENDENTES :",2,null,8157.41,{"$f":"$B$2*D5","v":97888.92},0.14000000000000001,null,{"$f":"IF($B$9>D5,D5-D4,$B$9-D4)","v":-4190.83},{"$f":"H5*F5","v":-586.71620000000007},"n"]
[null,null,null,null,null,null,null,null,{"$f":"SUMIF($J$2:$J$6,\"s\",$I$2:$I$6)","v":0}]
[]
[]
["SALÁRIO :",{"$f":"Simulador!N9","v":0},null,null,null,"Mensal ","Anual"]
[null,null,null,"DED DEPENDENTES :",null,189.59,{"$f":"F10*12","v":2275.08}]
["SALÁRIO ANUAL + RENDIMENTOS :",{"$f":"Simulador!I19","v":0}]
[null,null,null,"Mensal ","Anual",null,"Mensal ","Anual"]
["INSS :",{"$f":"IF(B9=0,0,I6*12)","v":0},null,"IMPOSTO DE RENDA"]
[null,null,null,2428.8000000000002,28467.200000000001,0,0,{"$f":"12*G14","v":0},null,{"$f":"B11-B13","v":0}]
["LIMITE DEDUÇÃO :",{"$f":"12%*B11","v":0},null,2428.81,33919.800000000003,7.4999999999999997E-2,182.16,2135.04,"PARCELA A DEDUZIR DEVE SER ATUALIZADA TBM",{"$f":"J14-H15","v":-2135.04}]
[null,null,null,2826.66,45012.6,0.15,394.16,4679.03,null,{"$f":"J15*F15","v":-160.12799999999999}]
["CONTR ANUAL :",{"$f":"Simulador!N13","v":0},null,3751.06,55976.160000000003,0.22500000000000001,675.49,8054.97,null,{"$f":"J14*F15","v":0}]
[null,null,null,4664.68,55976.160000000003,0.27500000000000002,908.73,10853.78]
["APORTE  :",{"$f":"MAX(0,B15-B17)","v":0},null,null,null,null,null,null,null,{"$f":"G15*12","v":2185.92}]
[]
["DIFERENÇA :",{"$f":"IF(I24-I25<1000,TEXT(I24-I25,\"000,00\"),TEXT(I24-I25,\"0.000,00\"))","v":"000,00"}]
[null,null,null,null,null,"BASE","ALIQUOTA","DEDUÇÃO","IMPOSTO"]
[null,null,null,"SEM PLANO",null,{"$f":"Simulador!D29","v":-4550.16},{"$f":"IF(F23<=$E$14,$F$14,IF(F23<=$E$15,$F$15,IF(F23<=$E$16,$F$16,IF(F23<=$E$17,$F$17,$F$18))))","v":0},{"$f":"IF(G23=$F$14,H14,IF(G23=$F$15,$H$15,IF(G23=$F$16,$H$16, IF(G23=$F$17,$H$17,$H$18))))","v":0},{"$f":"F23*G23-H23","v":0}]
[null,null,null,"COM PLANO",null,{"$f":"J24","v":-4550.16},{"$f":"IF(F24<=$E$14,$F$14,IF(F24<=$E$15,$F$15,IF(F24<=$E$16,$F$16,IF(F24<=$E$17,$F$17,$F$18))))","v":0},{"$f":"IF(G24=$F$14,H14,IF(G24=$F$15,$H$15,IF(G24=$F$16,$H$16, IF(G24=$F$17,$H$17,$H$18))))","v":0},{"$f":"MAX(0,F24*G24-H24)","v":0},{"$f":"ROUND(Simulador!I29,2)","v":-4550.16}]
[null,null,null,"COM PLANO + APORTE",null,{"$f":"Simulador!N29","v":-4550.16},{"$f":"IF(F25<=$E$14,$F$14,IF(F25<=$E$15,$F$15,IF(F25<=$E$16,$F$16,IF(F25<=$E$17,$F$17,$F$18))))","v":0},{"$f":"IF(G25=$F$14,H14,IF(G25=$F$15,$H$15,IF(G25=$F$16,$H$16, IF(G25=$F$17,$H$17,$H$18))))","v":0},{"$f":"MAX(0,F25*G25-H25)","v":0},{"$f":"Simulador!I29","v":-4550.16},"APESAR DE SER 20 CENTAVOS, SE ABRIR A QUANTIDADE DE DIGITOS VAI TORNAR  NUMERO MAIOR, EU APENAS ARRENDONDEI NA J24"]
[]
[null,null,null,null,null,null,{"$f":"F23*G23","v":0}]
[null,null,null,null,null,null,{"$f":"G27-H23","v":0}]
[]
[]
[]
[null,null,null,null,32959,{"$f":"E32*0.12","v":3955.08}]
[null,null,null,null,{"$f":"E32-C33","v":32959},{"$f":"E33*0.12","v":3955.08}]
[null,null,null,null,32961,3955.3199999999997]
[null,null,null,null,32962,3955.44]
[null,null,null,null,32963,3955.56]
[null,null,null,null,32964,3955.68]
[null,null,null,null,32965,3955.7999999999997]